BEGIN:VCALENDAR
VERSION:2.0
PRODID:-//Georges Social Cinema - ECPv6.15.20//NONSGML v1.0//EN
CALSCALE:GREGORIAN
METHOD:PUBLISH
X-WR-CALNAME:Georges Social Cinema
X-ORIGINAL-URL:https://georgessocialcinema.co.uk
X-WR-CALDESC:Events for Georges Social Cinema
REFRESH-INTERVAL;VALUE=DURATION:PT1H
X-Robots-Tag:noindex
X-PUBLISHED-TTL:PT1H
BEGIN:VTIMEZONE
TZID:Europe/London
BEGIN:DAYLIGHT
TZOFFSETFROM:+0000
TZOFFSETTO:+0100
TZNAME:BST
DTSTART:20230326T010000
END:DAYLIGHT
BEGIN:STANDARD
TZOFFSETFROM:+0100
TZOFFSETTO:+0000
TZNAME:GMT
DTSTART:20231029T010000
END:STANDARD
BEGIN:DAYLIGHT
TZOFFSETFROM:+0000
TZOFFSETTO:+0100
TZNAME:BST
DTSTART:20240331T010000
END:DAYLIGHT
BEGIN:STANDARD
TZOFFSETFROM:+0100
TZOFFSETTO:+0000
TZNAME:GMT
DTSTART:20241027T010000
END:STANDARD
BEGIN:DAYLIGHT
TZOFFSETFROM:+0000
TZOFFSETTO:+0100
TZNAME:BST
DTSTART:20250330T010000
END:DAYLIGHT
BEGIN:STANDARD
TZOFFSETFROM:+0100
TZOFFSETTO:+0000
TZNAME:GMT
DTSTART:20251026T010000
END:STANDARD
END:VTIMEZONE
BEGIN:VEVENT
DTSTART;TZID=Europe/London:20241004T190000
DTEND;TZID=Europe/London:20241004T220000
DTSTAMP:20260424T170248
CREATED:20240919T143711Z
LAST-MODIFIED:20241002T191200Z
UID:2153-1728068400-1728079200@georgessocialcinema.co.uk
SUMMARY:Film Screening: Planet of the Apes (1968)
DESCRIPTION:19h00: Drinks reception19h30: Film screening of Planet of the Apes (original 1968 version) \nLocation: King’s Cross\, London NW1 2AR. The venue’s full address will be emailed to you once payment has been completed. \nAdvance payment is required. Tickets cannot be purchased on the night.Online booking closes at 8am on Friday 4 October 2024. \nSynopsis: After being kept in a hypersleep during a long expedition into deep space\, an astronaut crew crash-lands in the 40th century on a planet where highly-intelligent non-human ape species are dominant and humans are enslaved. \nDirector: Franklin J. SchaffnerRelease Year: 1968Language: EnglishDuration: 1h52
URL:https://georgessocialcinema.co.uk/event/film-screening-planet-of-the-apes-1968/
LOCATION:Knightsbridge
ATTACH;FMTTYPE=image/jpeg:https://georgessocialcinema.co.uk/wp-content/uploads/2024/09/planetoftheapes.jpg
ORGANIZER;CN="George's Social Cinema":MAILTO:hello@georgessocialcinema.co.uk
END:VEVENT
BEGIN:VEVENT
DTSTART;TZID=Europe/London:20241026T183000
DTEND;TZID=Europe/London:20241026T223000
DTSTAMP:20260424T170248
CREATED:20240919T170839Z
LAST-MODIFIED:20241026T145014Z
UID:2191-1729967400-1729981800@georgessocialcinema.co.uk
SUMMARY:Film Screening: Cinema Paradiso (1988)
DESCRIPTION:18h30: Drinks reception19h15: Film screening of Cinema Paradiso \nLocation: King’s Cross\, London NW1. The venue’s full address will be emailed to you once payment has been completed. \nAdvance payment is required. Tickets cannot be purchased on the night.Online booking closes at 3pm on Saturday 26 October 2024. \nSynopsis: Young Salvatore discovers the perfect escape from life in his war-torn Sicilian village: the Cinema Paradiso movie house\, where projectionist Alfredo instills in the boy a deep love of films. \nDirector: Giuseppe TornatoreRelease Year: 1988Language: ItalianDuration: 2h04
URL:https://georgessocialcinema.co.uk/event/film-screening-cinema-paradiso-1988/
LOCATION:George’s Social Cinema\, SW7\, London\, Knightsbridge\, United Kingdom
ATTACH;FMTTYPE=image/jpeg:https://georgessocialcinema.co.uk/wp-content/uploads/2024/09/cinemafinal-5.jpg
ORGANIZER;CN="George's Social Cinema":MAILTO:hello@georgessocialcinema.co.uk
END:VEVENT
END:VCALENDAR