BEGIN:VCALENDAR
VERSION:2.0
PRODID:-//Georges Social Cinema - ECPv6.15.20//NONSGML v1.0//EN
CALSCALE:GREGORIAN
METHOD:PUBLISH
X-WR-CALNAME:Georges Social Cinema
X-ORIGINAL-URL:https://georgessocialcinema.co.uk
X-WR-CALDESC:Events for Georges Social Cinema
REFRESH-INTERVAL;VALUE=DURATION:PT1H
X-Robots-Tag:noindex
X-PUBLISHED-TTL:PT1H
BEGIN:VTIMEZONE
TZID:Europe/London
BEGIN:DAYLIGHT
TZOFFSETFROM:+0000
TZOFFSETTO:+0100
TZNAME:BST
DTSTART:20220327T010000
END:DAYLIGHT
BEGIN:STANDARD
TZOFFSETFROM:+0100
TZOFFSETTO:+0000
TZNAME:GMT
DTSTART:20221030T010000
END:STANDARD
BEGIN:DAYLIGHT
TZOFFSETFROM:+0000
TZOFFSETTO:+0100
TZNAME:BST
DTSTART:20230326T010000
END:DAYLIGHT
BEGIN:STANDARD
TZOFFSETFROM:+0100
TZOFFSETTO:+0000
TZNAME:GMT
DTSTART:20231029T010000
END:STANDARD
BEGIN:DAYLIGHT
TZOFFSETFROM:+0000
TZOFFSETTO:+0100
TZNAME:BST
DTSTART:20240331T010000
END:DAYLIGHT
BEGIN:STANDARD
TZOFFSETFROM:+0100
TZOFFSETTO:+0000
TZNAME:GMT
DTSTART:20241027T010000
END:STANDARD
END:VTIMEZONE
BEGIN:VEVENT
DTSTART;TZID=Europe/London:20231028T190000
DTEND;TZID=Europe/London:20231028T220000
DTSTAMP:20260422T152927
CREATED:20231010T195022Z
LAST-MODIFIED:20231109T114723Z
UID:2026-1698519600-1698530400@georgessocialcinema.co.uk
SUMMARY:Film Screening: Vertigo (1958)
DESCRIPTION:Location: King’s Cross\, London NW1. The venue’s full address will be emailed to you once payment has been completed. \nAdvance payment is required. Tickets cannot be purchased on the night.Online booking closes at 4pm on Friday 27 October 2023. \nSynopsis: A former San Francisco police detective juggles wrestling with his personal demons and becoming obsessed with the hauntingly beautiful woman he has been hired to trail\, who may be deeply disturbed. \nDirector: Alfred HitchcockRelease Year: 1958Language: EnglishDuration: 2h08
URL:https://georgessocialcinema.co.uk/event/film-screening-vertigo-1958-2/
LOCATION:George’s Social Cinema\, SW7\, London\, Knightsbridge\, United Kingdom
ATTACH;FMTTYPE=image/jpeg:https://georgessocialcinema.co.uk/wp-content/uploads/2023/10/vertigo_background.jpg
ORGANIZER;CN="George's Social Cinema":MAILTO:hello@georgessocialcinema.co.uk
END:VEVENT
END:VCALENDAR