BEGIN:VCALENDAR
VERSION:2.0
PRODID:-//Georges Social Cinema - ECPv6.15.20//NONSGML v1.0//EN
CALSCALE:GREGORIAN
METHOD:PUBLISH
X-WR-CALNAME:Georges Social Cinema
X-ORIGINAL-URL:https://georgessocialcinema.co.uk
X-WR-CALDESC:Events for Georges Social Cinema
REFRESH-INTERVAL;VALUE=DURATION:PT1H
X-Robots-Tag:noindex
X-PUBLISHED-TTL:PT1H
BEGIN:VTIMEZONE
TZID:Europe/London
BEGIN:DAYLIGHT
TZOFFSETFROM:+0000
TZOFFSETTO:+0100
TZNAME:BST
DTSTART:20210328T010000
END:DAYLIGHT
BEGIN:STANDARD
TZOFFSETFROM:+0100
TZOFFSETTO:+0000
TZNAME:GMT
DTSTART:20211031T010000
END:STANDARD
BEGIN:DAYLIGHT
TZOFFSETFROM:+0000
TZOFFSETTO:+0100
TZNAME:BST
DTSTART:20220327T010000
END:DAYLIGHT
BEGIN:STANDARD
TZOFFSETFROM:+0100
TZOFFSETTO:+0000
TZNAME:GMT
DTSTART:20221030T010000
END:STANDARD
BEGIN:DAYLIGHT
TZOFFSETFROM:+0000
TZOFFSETTO:+0100
TZNAME:BST
DTSTART:20230326T010000
END:DAYLIGHT
BEGIN:STANDARD
TZOFFSETFROM:+0100
TZOFFSETTO:+0000
TZNAME:GMT
DTSTART:20231029T010000
END:STANDARD
END:VTIMEZONE
BEGIN:VEVENT
DTSTART;TZID=Europe/London:20220730T133000
DTEND;TZID=Europe/London:20220730T220000
DTSTAMP:20260422T122829
CREATED:20220531T170107Z
LAST-MODIFIED:20220728T214715Z
UID:1924-1659187800-1659218400@georgessocialcinema.co.uk
SUMMARY:Special 'Western' Screening & Immersive Night Out: Once Upon a Time in the West
DESCRIPTION:IMMERSIVE JOURNEY IN CANADA WATER (‘SWEETWATER’)\n\n\n\n\n\n\n\n\n\n\n\n\n\n\n\n\n\n\n\n\n\n\n\n\n\n \n\n\nAfter the afternoon film screening\, guests will travel to London’s Canada Water (aka ‘Sweetwater’) for a secret immersive experience in an open-world adventure straight out of the Old West. There will be food stalls\, bars\, escape rooms\, and more. All activities are optional and you can just enjoy the multisensory theatrical experience instead if you prefer (you can leave anytime before the end). \n13h30-14h00: Champagne reception14h00-17h00: Film screening of Once Upon a Time in the West in Knightsbridge18h00-22h00: Immersive experience in Canada Water (your ticket includes a welcome drink there + token to play any indoor game) \nScreening Location: Knightsbridge\, London SW7. The venue’s full address will be emailed to you once payment has been completed.Immersive Theatre Location: Canada Water SE16 2XU  \nAdvance payment is required. Tickets cannot be purchased on the day.Online booking closes at midday (12pm) on Saturday 30 July 2022. \nFilm synopsis: A mysterious stranger with a harmonica joins forces with a notorious desperado to protect a beautiful widow from a ruthless assassin working for the railroad. \nDirector: Sergio LeoneRelease Year: 1968Language: EnglishDuration: 2h45
URL:https://georgessocialcinema.co.uk/event/special-western-screening-day-out-once-upon-a-time-in-the-west/
LOCATION:George’s Social Cinema\, Knightsbridge\, London\, SW7\, United Kingdom
ATTACH;FMTTYPE=image/jpeg:https://georgessocialcinema.co.uk/wp-content/uploads/2019/01/onceuponatimeinthewest.jpg
ORGANIZER;CN="George's Social Cinema":MAILTO:hello@georgessocialcinema.co.uk
END:VEVENT
END:VCALENDAR