BEGIN:VCALENDAR
VERSION:2.0
PRODID:-//Georges Social Cinema - ECPv6.15.20//NONSGML v1.0//EN
CALSCALE:GREGORIAN
METHOD:PUBLISH
X-WR-CALNAME:Georges Social Cinema
X-ORIGINAL-URL:https://georgessocialcinema.co.uk
X-WR-CALDESC:Events for Georges Social Cinema
REFRESH-INTERVAL;VALUE=DURATION:PT1H
X-Robots-Tag:noindex
X-PUBLISHED-TTL:PT1H
BEGIN:VTIMEZONE
TZID:Europe/London
BEGIN:DAYLIGHT
TZOFFSETFROM:+0000
TZOFFSETTO:+0100
TZNAME:BST
DTSTART:20210328T010000
END:DAYLIGHT
BEGIN:STANDARD
TZOFFSETFROM:+0100
TZOFFSETTO:+0000
TZNAME:GMT
DTSTART:20211031T010000
END:STANDARD
BEGIN:DAYLIGHT
TZOFFSETFROM:+0000
TZOFFSETTO:+0100
TZNAME:BST
DTSTART:20220327T010000
END:DAYLIGHT
BEGIN:STANDARD
TZOFFSETFROM:+0100
TZOFFSETTO:+0000
TZNAME:GMT
DTSTART:20221030T010000
END:STANDARD
BEGIN:DAYLIGHT
TZOFFSETFROM:+0000
TZOFFSETTO:+0100
TZNAME:BST
DTSTART:20230326T010000
END:DAYLIGHT
BEGIN:STANDARD
TZOFFSETFROM:+0100
TZOFFSETTO:+0000
TZNAME:GMT
DTSTART:20231029T010000
END:STANDARD
END:VTIMEZONE
BEGIN:VEVENT
DTSTART;TZID=Europe/London:20220518T190000
DTEND;TZID=Europe/London:20220518T223000
DTSTAMP:20260422T125013
CREATED:20220502T140241Z
LAST-MODIFIED:20231010T201617Z
UID:1893-1652900400-1652913000@georgessocialcinema.co.uk
SUMMARY:Film Screening: 12 Angry Men (1957)
DESCRIPTION:19h00: Champagne reception19h30: Film screening of 12 Angry Men \nLocation: Knightsbridge\, London SW7. The venue’s full address will be emailed to you once payment has been completed. \nAdvance payment is required. Tickets cannot be purchased on the night.Online booking closes at midday (12pm) on Monday 16 May 2022. \nSynopsis: The jury in a New York City murder trial is frustrated by a single member whose skeptical caution forces them to more carefully consider the evidence before jumping to a hasty verdict. \nDirector: Sidney LumetRelease Year: 1957Language: EnglishDuration: 1h36
URL:https://georgessocialcinema.co.uk/event/film-screening-12-angry-men-1958/
LOCATION:George’s Social Cinema\, Knightsbridge\, London\, SW7\, United Kingdom
ATTACH;FMTTYPE=image/jpeg:https://georgessocialcinema.co.uk/wp-content/uploads/2022/05/12am_web-1.jpg
ORGANIZER;CN="George's Social Cinema":MAILTO:hello@georgessocialcinema.co.uk
END:VEVENT
END:VCALENDAR