BEGIN:VCALENDAR
VERSION:2.0
PRODID:-//Georges Social Cinema - ECPv6.15.20//NONSGML v1.0//EN
CALSCALE:GREGORIAN
METHOD:PUBLISH
X-WR-CALNAME:Georges Social Cinema
X-ORIGINAL-URL:https://georgessocialcinema.co.uk
X-WR-CALDESC:Events for Georges Social Cinema
REFRESH-INTERVAL;VALUE=DURATION:PT1H
X-Robots-Tag:noindex
X-PUBLISHED-TTL:PT1H
BEGIN:VTIMEZONE
TZID:Europe/London
BEGIN:DAYLIGHT
TZOFFSETFROM:+0000
TZOFFSETTO:+0100
TZNAME:BST
DTSTART:20180325T010000
END:DAYLIGHT
BEGIN:STANDARD
TZOFFSETFROM:+0100
TZOFFSETTO:+0000
TZNAME:GMT
DTSTART:20181028T010000
END:STANDARD
BEGIN:DAYLIGHT
TZOFFSETFROM:+0000
TZOFFSETTO:+0100
TZNAME:BST
DTSTART:20190331T010000
END:DAYLIGHT
BEGIN:STANDARD
TZOFFSETFROM:+0100
TZOFFSETTO:+0000
TZNAME:GMT
DTSTART:20191027T010000
END:STANDARD
BEGIN:DAYLIGHT
TZOFFSETFROM:+0000
TZOFFSETTO:+0100
TZNAME:BST
DTSTART:20200329T010000
END:DAYLIGHT
BEGIN:STANDARD
TZOFFSETFROM:+0100
TZOFFSETTO:+0000
TZNAME:GMT
DTSTART:20201025T010000
END:STANDARD
END:VTIMEZONE
BEGIN:VEVENT
DTSTART;TZID=Europe/London:20190206T190000
DTEND;TZID=Europe/London:20190206T223000
DTSTAMP:20260423T082734
CREATED:20190117T144728Z
LAST-MODIFIED:20190124T215928Z
UID:1111-1549479600-1549492200@georgessocialcinema.co.uk
SUMMARY:Film Screening: Rear Window
DESCRIPTION:19h00: Champagne reception\n19h30: Film screening \nLocation: Hampstead NW3. The venue’s full address will be emailed to you once payment has been completed. \nAdvance payment is required. Tickets cannot be purchased on the night.\nOnline booking closes at midnight on Tuesday 5 February 2019. \nSynopsis: A wheelchair-bound photographer spies on his neighbors from his apartment window and becomes convinced one of them has committed murder.
URL:https://georgessocialcinema.co.uk/event/film-screening-rear-window/
LOCATION:George’s Social Cinema\, Knightsbridge\, London\, SW7\, United Kingdom
ATTACH;FMTTYPE=image/jpeg:https://georgessocialcinema.co.uk/wp-content/uploads/2019/01/rearwindow_web.jpg
ORGANIZER;CN="George's Social Cinema":MAILTO:hello@georgessocialcinema.co.uk
END:VEVENT
END:VCALENDAR